BEGIN:VCALENDAR
VERSION:2.0
PRODID:-//hacksw/handcal//NONSGML v1.0//EN
BEGIN:VEVENT
SUMMARY:Competition RTF38 a St Nizier
UID:e69e5489-13a7-4852-b484-a179555106df
DTSTART:20260613T220000Z
DTEND:20260614T220000Z
LOCATION:Localisation   
CATEGORIES:Sportif
STATUS:
URL;VALUE=URI:https://www.rtf38.com/evenements/2026/06/14/competition-rtf38-a-st-nizier-2339942
END:VEVENT
END:VCALENDAR
